BEGIN:VCALENDAR
VERSION:2.0
PRODID:icalendar-ruby
CALSCALE:GREGORIAN
METHOD:PUBLISH
BEGIN:VEVENT
DTSTAMP:20260422T095432Z
UID:7-295732@stbarnabas102.tithelysetup5.com
DTSTART:20261004T020000Z
DTEND:20261004T030000Z
CLASS:PUBLIC
CREATED:20260421T182138
DESCRIPTION:Join us for a peaceful time of prayer and worship at Great Vesp
 ers.
LAST-MODIFIED:20260421T182138
LOCATION:Church
SUMMARY:Great Vespers
URL;VALUE=URI:https://stbarnabascomoxvalley.ca/events/great-vespers/2026-10
 -03
END:VEVENT
END:VCALENDAR
