BEGIN:VCALENDAR
VERSION:2.0
PRODID:icalendar-ruby
CALSCALE:GREGORIAN
METHOD:PUBLISH
BEGIN:VEVENT
DTSTAMP:20260422T155114Z
UID:7-296104@stbarnabas102.tithelysetup5.com
DTSTART:20261101T020000Z
DTEND:20261101T030000Z
CLASS:PUBLIC
CREATED:20260422T082344
DESCRIPTION:Join us for a peaceful time of prayer and worship at Great Vesp
 ers.
LAST-MODIFIED:20260422T082344
LOCATION:Church
SUMMARY:Great Vespers
URL;VALUE=URI:https://stbarnabascomoxvalley.ca/events/great-vespers/2026-10
 -31
END:VEVENT
END:VCALENDAR
